BEGIN:VCALENDAR
VERSION:2.0
PRODID:-//phil.firespring.org//NONSGML kigkonsult.se iCalcreator 2.30.10//
CALSCALE:GREGORIAN
METHOD:PUBLISH
UID:96bafc7d-8415-444b-9121-5cf351b0c207
X-WR-CALDESC:Please bring drinking water
X-WR-RELCALID:afb9944e7853ed5da0fc6dccd1c03166
X-WR-TIMEZONE:America/Chicago
BEGIN:VTIMEZONE
TZID:America/Chicago
BEGIN:STANDARD
TZNAME:CST
DTSTART:20211107T020000
TZOFFSETFROM:-0500
TZOFFSETTO:-0600
RDATE:20221106T020000
END:STANDARD
BEGIN:DAYLIGHT
TZNAME:CDT
DTSTART:20210314T020000
TZOFFSETFROM:-0600
TZOFFSETTO:-0500
RDATE:20220313T020000
RDATE:20230312T020000
END:DAYLIGHT
END:VTIMEZONE
BEGIN:VEVENT
UID:f4bb7d92-fc5f-4d94-84a5-a10987212439
DTSTAMP:20260423T000133Z
DESCRIPTION:Please bring drinking water
DTSTART;TZID=America/Chicago:20211202T160000
DTEND;TZID=America/Chicago:20211202T170000
LOCATION:Firespring
SUMMARY:Walking Group
END:VEVENT
END:VCALENDAR
