BEGIN:VCALENDAR
VERSION:2.0
PRODID:-//phil.firespring.org//NONSGML kigkonsult.se iCalcreator 2.30.10//
CALSCALE:GREGORIAN
METHOD:PUBLISH
UID:8c152f6b-8d01-4c94-8a6f-f8f62617979a
X-WR-CALDESC:Please bring drinking water
X-WR-RELCALID:b549c557a4ee32744449b08c1d0b1718
X-WR-TIMEZONE:America/Chicago
BEGIN:VTIMEZONE
TZID:America/Chicago
BEGIN:STANDARD
TZNAME:CST
DTSTART:20211107T020000
TZOFFSETFROM:-0500
TZOFFSETTO:-0600
RDATE:20221106T020000
END:STANDARD
BEGIN:DAYLIGHT
TZNAME:CDT
DTSTART:20210314T020000
TZOFFSETFROM:-0600
TZOFFSETTO:-0500
RDATE:20220313T020000
RDATE:20230312T020000
END:DAYLIGHT
END:VTIMEZONE
BEGIN:VEVENT
UID:75b3ea91-34bb-44bd-b4e8-4259b2c25304
DTSTAMP:20260423T004216Z
DESCRIPTION:Please bring drinking water
DTSTART;TZID=America/Chicago:20211209T160000
DTEND;TZID=America/Chicago:20211209T170000
LOCATION:Firespring
SUMMARY:Walking Group
END:VEVENT
END:VCALENDAR
