BEGIN:VCALENDAR
VERSION:2.0
PRODID:-//phil.firespring.org//NONSGML kigkonsult.se iCalcreator 2.30.10//
CALSCALE:GREGORIAN
METHOD:PUBLISH
UID:eedfaca2-6c91-47d1-849b-6b39db2615f9
X-WR-CALDESC:Please bring drinking water
X-WR-RELCALID:fbc9fa6d7e41527401082c4a29edf0c0
X-WR-TIMEZONE:America/Chicago
BEGIN:VTIMEZONE
TZID:America/Chicago
BEGIN:STANDARD
TZNAME:CST
DTSTART:20211107T020000
TZOFFSETFROM:-0500
TZOFFSETTO:-0600
RDATE:20221106T020000
END:STANDARD
BEGIN:DAYLIGHT
TZNAME:CDT
DTSTART:20210314T020000
TZOFFSETFROM:-0600
TZOFFSETTO:-0500
RDATE:20220313T020000
RDATE:20230312T020000
END:DAYLIGHT
END:VTIMEZONE
BEGIN:VEVENT
UID:ffdfa6e7-24fc-4cd1-bdf2-7238e05cfb0c
DTSTAMP:20260422T205454Z
DESCRIPTION:Please bring drinking water
DTSTART;TZID=America/Chicago:20220203T160000
DTEND;TZID=America/Chicago:20220203T170000
LOCATION:Firespring
SUMMARY:Walking Group
END:VEVENT
END:VCALENDAR
