BEGIN:VCALENDAR
VERSION:2.0
PRODID:-//phil.firespring.org//NONSGML kigkonsult.se iCalcreator 2.30.10//
CALSCALE:GREGORIAN
METHOD:PUBLISH
UID:6d2572fb-3293-4da0-8564-649d26588ee8
X-WR-CALDESC:Please bring drinking water
X-WR-RELCALID:2f34d54a751119547cec7c0f2b4b536c
X-WR-TIMEZONE:America/Chicago
BEGIN:VTIMEZONE
TZID:America/Chicago
BEGIN:STANDARD
TZNAME:CST
DTSTART:20211107T020000
TZOFFSETFROM:-0500
TZOFFSETTO:-0600
RDATE:20221106T020000
END:STANDARD
BEGIN:DAYLIGHT
TZNAME:CDT
DTSTART:20220313T020000
TZOFFSETFROM:-0600
TZOFFSETTO:-0500
RDATE:20230312T020000
END:DAYLIGHT
END:VTIMEZONE
BEGIN:VEVENT
UID:3baac107-2690-44ad-bf37-98a644ead190
DTSTAMP:20260422T192751Z
DESCRIPTION:Please bring drinking water
DTSTART;TZID=America/Chicago:20220317T160000
DTEND;TZID=America/Chicago:20220317T170000
LOCATION:Firespring
SUMMARY:Walking Group
END:VEVENT
END:VCALENDAR
