BEGIN:VCALENDAR
VERSION:2.0
PRODID:-//phil.firespring.org//NONSGML kigkonsult.se iCalcreator 2.30.10//
CALSCALE:GREGORIAN
METHOD:PUBLISH
UID:7cd05d48-f847-4d15-ae81-279659f6d661
X-WR-CALDESC:Please bring drinking water
X-WR-RELCALID:321ea0ca7c7ca29cc63e1bdc9458bb72
X-WR-TIMEZONE:America/Chicago
BEGIN:VTIMEZONE
TZID:America/Chicago
BEGIN:STANDARD
TZNAME:CST
DTSTART:20211107T020000
TZOFFSETFROM:-0500
TZOFFSETTO:-0600
RDATE:20221106T020000
END:STANDARD
BEGIN:DAYLIGHT
TZNAME:CDT
DTSTART:20220313T020000
TZOFFSETFROM:-0600
TZOFFSETTO:-0500
RDATE:20230312T020000
END:DAYLIGHT
END:VTIMEZONE
BEGIN:VEVENT
UID:b2c8f799-0a43-4318-9d45-d9e6bde3f433
DTSTAMP:20260422T200042Z
DESCRIPTION:Please bring drinking water
DTSTART;TZID=America/Chicago:20220324T160000
DTEND;TZID=America/Chicago:20220324T170000
LOCATION:Firespring
SUMMARY:Walking Group
END:VEVENT
END:VCALENDAR
