BEGIN:VCALENDAR
VERSION:2.0
PRODID:-//phil.firespring.org//NONSGML kigkonsult.se iCalcreator 2.30.10//
CALSCALE:GREGORIAN
METHOD:PUBLISH
UID:b5b495f8-cb72-4d0a-be03-9730ce1b8d28
X-WR-CALDESC:Please bring drinking water
X-WR-RELCALID:fa90106e7a23ee07e0a36668ce0ddce2
X-WR-TIMEZONE:America/Chicago
BEGIN:VTIMEZONE
TZID:America/Chicago
BEGIN:STANDARD
TZNAME:CST
DTSTART:20211107T020000
TZOFFSETFROM:-0500
TZOFFSETTO:-0600
RDATE:20221106T020000
END:STANDARD
BEGIN:DAYLIGHT
TZNAME:CDT
DTSTART:20220313T020000
TZOFFSETFROM:-0600
TZOFFSETTO:-0500
RDATE:20230312T020000
END:DAYLIGHT
END:VTIMEZONE
BEGIN:VEVENT
UID:7b829164-1558-451f-996b-8c39ca8f5e30
DTSTAMP:20260422T180349Z
DESCRIPTION:Please bring drinking water
DTSTART;TZID=America/Chicago:20220414T160000
DTEND;TZID=America/Chicago:20220414T170000
LOCATION:Firespring
SUMMARY:Walking Group
END:VEVENT
END:VCALENDAR
