BEGIN:VCALENDAR
VERSION:2.0
PRODID:-//phil.firespring.org//NONSGML kigkonsult.se iCalcreator 2.30.10//
CALSCALE:GREGORIAN
METHOD:PUBLISH
UID:4e1097cc-618c-4c8a-be7d-0a6ddb3f8c2d
X-WR-CALDESC:Please bring drinking water
X-WR-RELCALID:2de0d3a4c05fdf9aca9d7a9f64728847
X-WR-TIMEZONE:America/Chicago
BEGIN:VTIMEZONE
TZID:America/Chicago
BEGIN:STANDARD
TZNAME:CST
DTSTART:20211107T020000
TZOFFSETFROM:-0500
TZOFFSETTO:-0600
RDATE:20221106T020000
END:STANDARD
BEGIN:DAYLIGHT
TZNAME:CDT
DTSTART:20220313T020000
TZOFFSETFROM:-0600
TZOFFSETTO:-0500
RDATE:20230312T020000
END:DAYLIGHT
END:VTIMEZONE
BEGIN:VEVENT
UID:369d59a3-88d2-44eb-95ec-dbb5af6c4941
DTSTAMP:20260422T180252Z
DESCRIPTION:Please bring drinking water
DTSTART;TZID=America/Chicago:20220421T160000
DTEND;TZID=America/Chicago:20220421T170000
LOCATION:Firespring
SUMMARY:Walking Group
END:VEVENT
END:VCALENDAR
