BEGIN:VCALENDAR
VERSION:2.0
PRODID:-//phil.firespring.org//NONSGML kigkonsult.se iCalcreator 2.30.10//
CALSCALE:GREGORIAN
METHOD:PUBLISH
UID:fa165bef-ffa3-4c4f-b071-ace96a529f6d
X-WR-CALDESC:Please bring drinking water
X-WR-RELCALID:b4da848342f0c054643619b78b207217
X-WR-TIMEZONE:America/Chicago
BEGIN:VTIMEZONE
TZID:America/Chicago
BEGIN:STANDARD
TZNAME:CST
DTSTART:20211107T020000
TZOFFSETFROM:-0500
TZOFFSETTO:-0600
RDATE:20221106T020000
RDATE:20231105T020000
END:STANDARD
BEGIN:DAYLIGHT
TZNAME:CDT
DTSTART:20220313T020000
TZOFFSETFROM:-0600
TZOFFSETTO:-0500
RDATE:20230312T020000
END:DAYLIGHT
END:VTIMEZONE
BEGIN:VEVENT
UID:da139541-3d46-4d41-85b4-7d89d4d67f9f
DTSTAMP:20260422T162751Z
DESCRIPTION:Please bring drinking water
DTSTART;TZID=America/Chicago:20220519T160000
DTEND;TZID=America/Chicago:20220519T170000
LOCATION:Firespring
SUMMARY:Walking Group
END:VEVENT
END:VCALENDAR
