BEGIN:VCALENDAR
VERSION:2.0
PRODID:-//phil.firespring.org//NONSGML kigkonsult.se iCalcreator 2.30.10//
CALSCALE:GREGORIAN
METHOD:PUBLISH
UID:0b1da662-db02-43b6-8de6-5f1d40f2d2be
X-WR-CALDESC:Please bring drinking water
X-WR-RELCALID:cd047a9e6a6e62e3ce35c072a0f84314
X-WR-TIMEZONE:America/Chicago
BEGIN:VTIMEZONE
TZID:America/Chicago
BEGIN:STANDARD
TZNAME:CST
DTSTART:20211107T020000
TZOFFSETFROM:-0500
TZOFFSETTO:-0600
RDATE:20221106T020000
RDATE:20231105T020000
END:STANDARD
BEGIN:DAYLIGHT
TZNAME:CDT
DTSTART:20220313T020000
TZOFFSETFROM:-0600
TZOFFSETTO:-0500
RDATE:20230312T020000
END:DAYLIGHT
END:VTIMEZONE
BEGIN:VEVENT
UID:33eae0eb-898e-4e19-a9aa-2185030f43fc
DTSTAMP:20260422T150129Z
DESCRIPTION:Please bring drinking water
DTSTART;TZID=America/Chicago:20220602T160000
DTEND;TZID=America/Chicago:20220602T170000
LOCATION:Firespring
SUMMARY:Walking Group
END:VEVENT
END:VCALENDAR
