BEGIN:VCALENDAR
VERSION:2.0
PRODID:-//phil.firespring.org//NONSGML kigkonsult.se iCalcreator 2.30.10//
CALSCALE:GREGORIAN
METHOD:PUBLISH
UID:9f90b487-0455-4a0b-a8d0-58a402f63124
X-WR-CALDESC:Please bring drinking water
X-WR-RELCALID:578a44f9477031d83473c2cb7a3d616b
X-WR-TIMEZONE:America/Chicago
BEGIN:VTIMEZONE
TZID:America/Chicago
BEGIN:STANDARD
TZNAME:CST
DTSTART:20211107T020000
TZOFFSETFROM:-0500
TZOFFSETTO:-0600
RDATE:20221106T020000
RDATE:20231105T020000
END:STANDARD
BEGIN:DAYLIGHT
TZNAME:CDT
DTSTART:20220313T020000
TZOFFSETFROM:-0600
TZOFFSETTO:-0500
RDATE:20230312T020000
END:DAYLIGHT
END:VTIMEZONE
BEGIN:VEVENT
UID:fbabcfa7-a51e-484e-829f-af54ab27893d
DTSTAMP:20260422T144609Z
DESCRIPTION:Please bring drinking water
DTSTART;TZID=America/Chicago:20220630T160000
DTEND;TZID=America/Chicago:20220630T170000
LOCATION:Firespring
SUMMARY:Walking Group
END:VEVENT
END:VCALENDAR
