BEGIN:VCALENDAR
VERSION:2.0
PRODID:-//phil.firespring.org//NONSGML kigkonsult.se iCalcreator 2.30.10//
CALSCALE:GREGORIAN
METHOD:PUBLISH
UID:46a4de33-e152-448d-a85e-11c204ce05a3
X-WR-CALDESC:Please bring drinking water
X-WR-RELCALID:e2166196cf09fdd8ffc6a55d9c801ab5
X-WR-TIMEZONE:America/Chicago
BEGIN:VTIMEZONE
TZID:America/Chicago
BEGIN:STANDARD
TZNAME:CST
DTSTART:20211107T020000
TZOFFSETFROM:-0500
TZOFFSETTO:-0600
RDATE:20221106T020000
RDATE:20231105T020000
END:STANDARD
BEGIN:DAYLIGHT
TZNAME:CDT
DTSTART:20220313T020000
TZOFFSETFROM:-0600
TZOFFSETTO:-0500
RDATE:20230312T020000
END:DAYLIGHT
END:VTIMEZONE
BEGIN:VEVENT
UID:55e372a4-b920-4ffe-b2e9-9801cf650f7e
DTSTAMP:20260422T130356Z
DESCRIPTION:Please bring drinking water
DTSTART;TZID=America/Chicago:20220721T160000
DTEND;TZID=America/Chicago:20220721T170000
LOCATION:Firespring
SUMMARY:Walking Group
END:VEVENT
END:VCALENDAR
