BEGIN:VCALENDAR
VERSION:2.0
PRODID:-//phil.firespring.org//NONSGML kigkonsult.se iCalcreator 2.30.10//
CALSCALE:GREGORIAN
METHOD:PUBLISH
UID:2b6346fc-6ac4-4e41-a280-8417c8b5d863
X-WR-CALDESC:Please bring drinking water
X-WR-RELCALID:5962099f7a68bbcac24fca14eb5bf0f3
X-WR-TIMEZONE:America/Chicago
BEGIN:VTIMEZONE
TZID:America/Chicago
BEGIN:STANDARD
TZNAME:CST
DTSTART:20211107T020000
TZOFFSETFROM:-0500
TZOFFSETTO:-0600
RDATE:20221106T020000
RDATE:20231105T020000
END:STANDARD
BEGIN:DAYLIGHT
TZNAME:CDT
DTSTART:20220313T020000
TZOFFSETFROM:-0600
TZOFFSETTO:-0500
RDATE:20230312T020000
END:DAYLIGHT
END:VTIMEZONE
BEGIN:VEVENT
UID:7a752b95-c966-40c3-b1d0-322fe10d9ece
DTSTAMP:20260422T130540Z
DESCRIPTION:Please bring drinking water
DTSTART;TZID=America/Chicago:20220728T160000
DTEND;TZID=America/Chicago:20220728T170000
LOCATION:Firespring
SUMMARY:Walking Group
END:VEVENT
END:VCALENDAR
