BEGIN:VCALENDAR
VERSION:2.0
PRODID:-//phil.firespring.org//NONSGML kigkonsult.se iCalcreator 2.30.10//
CALSCALE:GREGORIAN
METHOD:PUBLISH
UID:b97badc9-8d8a-4174-bef9-8a05e082fcf8
X-WR-CALDESC:Please bring drinking water
X-WR-RELCALID:fd3a3728299ba853b5fa8a23d530a1c3
X-WR-TIMEZONE:America/Chicago
BEGIN:VTIMEZONE
TZID:America/Chicago
BEGIN:STANDARD
TZNAME:CST
DTSTART:20211107T020000
TZOFFSETFROM:-0500
TZOFFSETTO:-0600
RDATE:20221106T020000
RDATE:20231105T020000
END:STANDARD
BEGIN:DAYLIGHT
TZNAME:CDT
DTSTART:20220313T020000
TZOFFSETFROM:-0600
TZOFFSETTO:-0500
RDATE:20230312T020000
END:DAYLIGHT
END:VTIMEZONE
BEGIN:VEVENT
UID:00c4f271-b163-4a7b-ab58-4be4a31bd476
DTSTAMP:20260422T113529Z
DESCRIPTION:Please bring drinking water
DTSTART;TZID=America/Chicago:20220804T160000
DTEND;TZID=America/Chicago:20220804T170000
LOCATION:Firespring
SUMMARY:Walking Group
END:VEVENT
END:VCALENDAR
