BEGIN:VCALENDAR
VERSION:2.0
PRODID:-//phil.firespring.org//NONSGML kigkonsult.se iCalcreator 2.30.10//
CALSCALE:GREGORIAN
METHOD:PUBLISH
UID:d1a560b3-7cc2-456b-afd9-ba8e6d5b4aa3
X-WR-CALDESC:Please bring drinking water
X-WR-RELCALID:fbd3bbd534868450c4c40a94a3b3c8f0
X-WR-TIMEZONE:America/Chicago
BEGIN:VTIMEZONE
TZID:America/Chicago
BEGIN:STANDARD
TZNAME:CST
DTSTART:20211107T020000
TZOFFSETFROM:-0500
TZOFFSETTO:-0600
RDATE:20221106T020000
RDATE:20231105T020000
END:STANDARD
BEGIN:DAYLIGHT
TZNAME:CDT
DTSTART:20220313T020000
TZOFFSETFROM:-0600
TZOFFSETTO:-0500
RDATE:20230312T020000
END:DAYLIGHT
END:VTIMEZONE
BEGIN:VEVENT
UID:902d3344-c291-410b-a3a7-775cb86484e8
DTSTAMP:20260422T113621Z
DESCRIPTION:Please bring drinking water
DTSTART;TZID=America/Chicago:20220811T160000
DTEND;TZID=America/Chicago:20220811T170000
LOCATION:Firespring
SUMMARY:Walking Group
END:VEVENT
END:VCALENDAR
