BEGIN:VCALENDAR
VERSION:2.0
PRODID:-//phil.firespring.org//NONSGML kigkonsult.se iCalcreator 2.30.10//
CALSCALE:GREGORIAN
METHOD:PUBLISH
UID:2a2ce35d-3000-420e-9cd1-a36f9a64a795
X-WR-CALDESC:Please bring drinking water
X-WR-RELCALID:a2c39941d0d29503505454a5f91d19de
X-WR-TIMEZONE:America/Chicago
BEGIN:VTIMEZONE
TZID:America/Chicago
BEGIN:STANDARD
TZNAME:CST
DTSTART:20211107T020000
TZOFFSETFROM:-0500
TZOFFSETTO:-0600
RDATE:20221106T020000
RDATE:20231105T020000
END:STANDARD
BEGIN:DAYLIGHT
TZNAME:CDT
DTSTART:20220313T020000
TZOFFSETFROM:-0600
TZOFFSETTO:-0500
RDATE:20230312T020000
END:DAYLIGHT
END:VTIMEZONE
BEGIN:VEVENT
UID:b7f13242-dc68-4f8d-b153-39bebb5eeee0
DTSTAMP:20260422T102748Z
DESCRIPTION:Please bring drinking water
DTSTART;TZID=America/Chicago:20220908T160000
DTEND;TZID=America/Chicago:20220908T170000
LOCATION:Firespring
SUMMARY:Walking Group
END:VEVENT
END:VCALENDAR
