BEGIN:VCALENDAR
VERSION:2.0
PRODID:-//phil.firespring.org//NONSGML kigkonsult.se iCalcreator 2.30.10//
CALSCALE:GREGORIAN
METHOD:PUBLISH
UID:2044184d-6f22-4c67-a685-090eaf99077b
X-WR-CALDESC:Please bring drinking water
X-WR-RELCALID:0ff5f1ffcd6bb84e3f988ac140af858c
X-WR-TIMEZONE:America/Chicago
BEGIN:VTIMEZONE
TZID:America/Chicago
BEGIN:STANDARD
TZNAME:CST
DTSTART:20211107T020000
TZOFFSETFROM:-0500
TZOFFSETTO:-0600
RDATE:20221106T020000
RDATE:20231105T020000
END:STANDARD
BEGIN:DAYLIGHT
TZNAME:CDT
DTSTART:20220313T020000
TZOFFSETFROM:-0600
TZOFFSETTO:-0500
RDATE:20230312T020000
RDATE:20240310T020000
END:DAYLIGHT
END:VTIMEZONE
BEGIN:VEVENT
UID:47a0a033-a3ec-479a-b7b7-7489ae3bb377
DTSTAMP:20260422T102544Z
DESCRIPTION:Please bring drinking water
DTSTART;TZID=America/Chicago:20220915T160000
DTEND;TZID=America/Chicago:20220915T170000
LOCATION:Firespring
SUMMARY:Walking Group
END:VEVENT
END:VCALENDAR
