BEGIN:VCALENDAR
VERSION:2.0
PRODID:-//phil.firespring.org//NONSGML kigkonsult.se iCalcreator 2.30.10//
CALSCALE:GREGORIAN
METHOD:PUBLISH
UID:05df293b-ae38-4d91-b156-3eebca74591b
X-WR-CALDESC:Please bring drinking water
X-WR-RELCALID:b4b9c869a0ae81b0f8d8f53f04f0e384
X-WR-TIMEZONE:America/Chicago
BEGIN:VTIMEZONE
TZID:America/Chicago
BEGIN:STANDARD
TZNAME:CST
DTSTART:20211107T020000
TZOFFSETFROM:-0500
TZOFFSETTO:-0600
RDATE:20221106T020000
RDATE:20231105T020000
END:STANDARD
BEGIN:DAYLIGHT
TZNAME:CDT
DTSTART:20220313T020000
TZOFFSETFROM:-0600
TZOFFSETTO:-0500
RDATE:20230312T020000
RDATE:20240310T020000
END:DAYLIGHT
END:VTIMEZONE
BEGIN:VEVENT
UID:2edd99df-f01c-4aa1-a52c-2c92d3169261
DTSTAMP:20260422T085314Z
DESCRIPTION:Please bring drinking water
DTSTART;TZID=America/Chicago:20221006T160000
DTEND;TZID=America/Chicago:20221006T170000
LOCATION:Firespring
SUMMARY:Walking Group
END:VEVENT
END:VCALENDAR
