BEGIN:VCALENDAR
VERSION:2.0
PRODID:-//phil.firespring.org//NONSGML kigkonsult.se iCalcreator 2.30.10//
CALSCALE:GREGORIAN
METHOD:PUBLISH
UID:a32487b9-4c05-4c95-bd1c-36462b86a2f3
X-WR-CALDESC:Please bring drinking water
X-WR-RELCALID:4dbbfaa76cf4e29b43195e1bbc5f8131
X-WR-TIMEZONE:America/Chicago
BEGIN:VTIMEZONE
TZID:America/Chicago
BEGIN:STANDARD
TZNAME:CST
DTSTART:20211107T020000
TZOFFSETFROM:-0500
TZOFFSETTO:-0600
RDATE:20221106T020000
RDATE:20231105T020000
END:STANDARD
BEGIN:DAYLIGHT
TZNAME:CDT
DTSTART:20220313T020000
TZOFFSETFROM:-0600
TZOFFSETTO:-0500
RDATE:20230312T020000
RDATE:20240310T020000
END:DAYLIGHT
END:VTIMEZONE
BEGIN:VEVENT
UID:3b45a1de-fd5c-44be-bc9e-359fb3e802c3
DTSTAMP:20260422T085413Z
DESCRIPTION:Please bring drinking water
DTSTART;TZID=America/Chicago:20221027T160000
DTEND;TZID=America/Chicago:20221027T170000
LOCATION:Firespring
SUMMARY:Walking Group
END:VEVENT
END:VCALENDAR
