BEGIN:VCALENDAR
VERSION:2.0
PRODID:-//phil.firespring.org//NONSGML kigkonsult.se iCalcreator 2.30.10//
CALSCALE:GREGORIAN
METHOD:PUBLISH
UID:ef395704-f332-45d3-8336-8b2103217869
X-WR-CALDESC:Please bring drinking water
X-WR-RELCALID:36cdb0eb0be8c1c304b0d2fa71dd896e
X-WR-TIMEZONE:America/Chicago
BEGIN:VTIMEZONE
TZID:America/Chicago
BEGIN:STANDARD
TZNAME:CST
DTSTART:20221106T020000
TZOFFSETFROM:-0500
TZOFFSETTO:-0600
RDATE:20231105T020000
END:STANDARD
BEGIN:DAYLIGHT
TZNAME:CDT
DTSTART:20220313T020000
TZOFFSETFROM:-0600
TZOFFSETTO:-0500
RDATE:20230312T020000
RDATE:20240310T020000
END:DAYLIGHT
END:VTIMEZONE
BEGIN:VEVENT
UID:98cf79c4-3604-4356-84a4-a6258257eb00
DTSTAMP:20260420T072942Z
DESCRIPTION:Please bring drinking water
DTSTART;TZID=America/Chicago:20221110T160000
DTEND;TZID=America/Chicago:20221110T170000
LOCATION:Firespring
SUMMARY:Walking Group
END:VEVENT
END:VCALENDAR
