BEGIN:VCALENDAR
VERSION:2.0
PRODID:-//phil.firespring.org//NONSGML kigkonsult.se iCalcreator 2.30.10//
CALSCALE:GREGORIAN
METHOD:PUBLISH
UID:12d67905-939a-4bef-8665-3ebef2a9d21b
X-WR-CALDESC:sdfasdfasdfasdf
X-WR-RELCALID:94285f0feaa9def1116d68b24c03fb9a
X-WR-TIMEZONE:America/Chicago
BEGIN:VTIMEZONE
TZID:America/Chicago
BEGIN:STANDARD
TZNAME:CST
DTSTART:20221106T020000
TZOFFSETFROM:-0500
TZOFFSETTO:-0600
RDATE:20231105T020000
END:STANDARD
BEGIN:DAYLIGHT
TZNAME:CDT
DTSTART:20220313T020000
TZOFFSETFROM:-0600
TZOFFSETTO:-0500
RDATE:20230312T020000
RDATE:20240310T020000
END:DAYLIGHT
END:VTIMEZONE
BEGIN:VEVENT
UID:1018d428-fd3a-4cb5-a092-ddcc5e0956ba
DTSTAMP:20260420T054846Z
DESCRIPTION:sdfasdfasdfasdf
DTSTART;TZID=America/Chicago:20221201T173000
DTEND;TZID=America/Chicago:20221201T183000
LOCATION:
SUMMARY:fun event
END:VEVENT
END:VCALENDAR
