BEGIN:VCALENDAR
VERSION:2.0
PRODID:-//phil.firespring.org//NONSGML kigkonsult.se iCalcreator 2.30.10//
CALSCALE:GREGORIAN
METHOD:PUBLISH
UID:cc0318f2-4681-4203-a1d5-93716f6c3c42
X-WR-CALDESC:Please bring drinking water
X-WR-RELCALID:ffe756f262f9a5f49827d669180cad50
X-WR-TIMEZONE:America/Chicago
BEGIN:VTIMEZONE
TZID:America/Chicago
BEGIN:STANDARD
TZNAME:CST
DTSTART:20221106T020000
TZOFFSETFROM:-0500
TZOFFSETTO:-0600
RDATE:20231105T020000
END:STANDARD
BEGIN:DAYLIGHT
TZNAME:CDT
DTSTART:20220313T020000
TZOFFSETFROM:-0600
TZOFFSETTO:-0500
RDATE:20230312T020000
RDATE:20240310T020000
END:DAYLIGHT
END:VTIMEZONE
BEGIN:VEVENT
UID:dcd6b9ff-f26a-454d-b509-bbdf8e229238
DTSTAMP:20260420T051609Z
DESCRIPTION:Please bring drinking water
DTSTART;TZID=America/Chicago:20221215T160000
DTEND;TZID=America/Chicago:20221215T170000
LOCATION:Firespring
SUMMARY:Walking Group
END:VEVENT
END:VCALENDAR
