BEGIN:VCALENDAR
VERSION:2.0
PRODID:-//phil.firespring.org//NONSGML kigkonsult.se iCalcreator 2.30.10//
CALSCALE:GREGORIAN
METHOD:PUBLISH
UID:121c9115-0058-4cb0-b05b-be34df146941
X-WR-CALDESC:Please bring drinking water
X-WR-RELCALID:e256231c5b6343f1fe2bb44b6a325823
X-WR-TIMEZONE:America/Chicago
BEGIN:VTIMEZONE
TZID:America/Chicago
BEGIN:STANDARD
TZNAME:CST
DTSTART:20221106T020000
TZOFFSETFROM:-0500
TZOFFSETTO:-0600
RDATE:20231105T020000
END:STANDARD
BEGIN:DAYLIGHT
TZNAME:CDT
DTSTART:20220313T020000
TZOFFSETFROM:-0600
TZOFFSETTO:-0500
RDATE:20230312T020000
RDATE:20240310T020000
END:DAYLIGHT
END:VTIMEZONE
BEGIN:VEVENT
UID:89f60106-aa40-4cca-a7f5-0b802c7ddfc7
DTSTAMP:20260420T052043Z
DESCRIPTION:Please bring drinking water
DTSTART;TZID=America/Chicago:20221229T160000
DTEND;TZID=America/Chicago:20221229T170000
LOCATION:Firespring
SUMMARY:Walking Group
END:VEVENT
END:VCALENDAR
