BEGIN:VCALENDAR
VERSION:2.0
PRODID:-//phil.firespring.org//NONSGML kigkonsult.se iCalcreator 2.30.10//
CALSCALE:GREGORIAN
METHOD:PUBLISH
UID:9e4376ae-0679-41a7-be29-6cb75b9fd0d7
X-WR-CALDESC:Please bring drinking water
X-WR-RELCALID:e43cb06ea945283c5d9b32ffc3de8772
X-WR-TIMEZONE:America/Chicago
BEGIN:VTIMEZONE
TZID:America/Chicago
BEGIN:STANDARD
TZNAME:CST
DTSTART:20221106T020000
TZOFFSETFROM:-0500
TZOFFSETTO:-0600
RDATE:20231105T020000
END:STANDARD
BEGIN:DAYLIGHT
TZNAME:CDT
DTSTART:20220313T020000
TZOFFSETFROM:-0600
TZOFFSETTO:-0500
RDATE:20230312T020000
RDATE:20240310T020000
END:DAYLIGHT
END:VTIMEZONE
BEGIN:VEVENT
UID:d0042530-16c8-441a-aeee-e3078a0e2e81
DTSTAMP:20260420T035342Z
DESCRIPTION:Please bring drinking water
DTSTART;TZID=America/Chicago:20230112T160000
DTEND;TZID=America/Chicago:20230112T170000
LOCATION:Firespring
SUMMARY:Walking Group
END:VEVENT
END:VCALENDAR
