BEGIN:VCALENDAR
VERSION:2.0
PRODID:-//phil.firespring.org//NONSGML kigkonsult.se iCalcreator 2.30.10//
CALSCALE:GREGORIAN
METHOD:PUBLISH
UID:e12f4291-7f12-4754-9b28-1fc5958b7c34
X-WR-CALDESC:Please bring drinking water
X-WR-RELCALID:6190d6197df7ca197633505d491ef163
X-WR-TIMEZONE:America/Chicago
BEGIN:VTIMEZONE
TZID:America/Chicago
BEGIN:STANDARD
TZNAME:CST
DTSTART:20221106T020000
TZOFFSETFROM:-0500
TZOFFSETTO:-0600
RDATE:20231105T020000
END:STANDARD
BEGIN:DAYLIGHT
TZNAME:CDT
DTSTART:20220313T020000
TZOFFSETFROM:-0600
TZOFFSETTO:-0500
RDATE:20230312T020000
RDATE:20240310T020000
END:DAYLIGHT
END:VTIMEZONE
BEGIN:VEVENT
UID:6aa346f9-c1a6-4ebc-8929-826870607b57
DTSTAMP:20260420T035459Z
DESCRIPTION:Please bring drinking water
DTSTART;TZID=America/Chicago:20230126T160000
DTEND;TZID=America/Chicago:20230126T170000
LOCATION:Firespring
SUMMARY:Walking Group
END:VEVENT
END:VCALENDAR
