BEGIN:VCALENDAR
VERSION:2.0
PRODID:-//phil.firespring.org//NONSGML kigkonsult.se iCalcreator 2.30.10//
CALSCALE:GREGORIAN
METHOD:PUBLISH
UID:4ac431dd-e087-49ac-b6b1-e5345e508b84
X-WR-CALDESC:This is the detail
X-WR-RELCALID:626b6a441da4d25427fbd8e511056585
X-WR-TIMEZONE:America/Chicago
BEGIN:VTIMEZONE
TZID:America/Chicago
BEGIN:STANDARD
TZNAME:CST
DTSTART:20221106T020000
TZOFFSETFROM:-0500
TZOFFSETTO:-0600
RDATE:20231105T020000
END:STANDARD
BEGIN:DAYLIGHT
TZNAME:CDT
DTSTART:20230312T020000
TZOFFSETFROM:-0600
TZOFFSETTO:-0500
RDATE:20240310T020000
END:DAYLIGHT
END:VTIMEZONE
BEGIN:VEVENT
UID:9a0c5617-607e-4c71-8443-ab0e3b2fecaf
DTSTAMP:20260420T005333Z
DESCRIPTION:This is the detail
DTSTART;TZID=America/Chicago:20230317T103000
DTEND;TZID=America/Chicago:20230317T113000
LOCATION:
SUMMARY:March Volunteer Introduction
END:VEVENT
END:VCALENDAR
