BEGIN:VCALENDAR
VERSION:2.0
PRODID:-//phil.firespring.org//NONSGML kigkonsult.se iCalcreator 2.30.10//
CALSCALE:GREGORIAN
METHOD:PUBLISH
UID:a5b53b5b-d9d7-4698-b553-c88f10bd1d0c
X-WR-CALDESC:Please bring drinking water
X-WR-RELCALID:c57698dc752d452b8a3fc4002a20ad68
X-WR-TIMEZONE:America/Chicago
BEGIN:VTIMEZONE
TZID:America/Chicago
BEGIN:STANDARD
TZNAME:CST
DTSTART:20221106T020000
TZOFFSETFROM:-0500
TZOFFSETTO:-0600
RDATE:20231105T020000
END:STANDARD
BEGIN:DAYLIGHT
TZNAME:CDT
DTSTART:20230312T020000
TZOFFSETFROM:-0600
TZOFFSETTO:-0500
RDATE:20240310T020000
END:DAYLIGHT
END:VTIMEZONE
BEGIN:VEVENT
UID:ac88c8c6-92ee-4396-b476-78512575d49d
DTSTAMP:20260419T223256Z
DESCRIPTION:Please bring drinking water
DTSTART;TZID=America/Chicago:20230406T160000
DTEND;TZID=America/Chicago:20230406T170000
LOCATION:Firespring
SUMMARY:Walking Group
END:VEVENT
END:VCALENDAR
