BEGIN:VCALENDAR
VERSION:2.0
PRODID:-//phil.firespring.org//NONSGML kigkonsult.se iCalcreator 2.30.10//
CALSCALE:GREGORIAN
METHOD:PUBLISH
UID:de49eb91-4c5a-4bee-b63e-518b9b466127
X-WR-CALDESC:Please bring drinking water
X-WR-RELCALID:94e74396b5036017ab0b5a7c688f9db8
X-WR-TIMEZONE:America/Chicago
BEGIN:VTIMEZONE
TZID:America/Chicago
BEGIN:STANDARD
TZNAME:CST
DTSTART:20221106T020000
TZOFFSETFROM:-0500
TZOFFSETTO:-0600
RDATE:20231105T020000
END:STANDARD
BEGIN:DAYLIGHT
TZNAME:CDT
DTSTART:20230312T020000
TZOFFSETFROM:-0600
TZOFFSETTO:-0500
RDATE:20240310T020000
END:DAYLIGHT
END:VTIMEZONE
BEGIN:VEVENT
UID:61790729-6d3f-4901-a6df-c66002c9f396
DTSTAMP:20260419T223154Z
DESCRIPTION:Please bring drinking water
DTSTART;TZID=America/Chicago:20230420T160000
DTEND;TZID=America/Chicago:20230420T170000
LOCATION:Firespring
SUMMARY:Walking Group
END:VEVENT
END:VCALENDAR
