BEGIN:VCALENDAR
VERSION:2.0
PRODID:-//phil.firespring.org//NONSGML kigkonsult.se iCalcreator 2.30.10//
CALSCALE:GREGORIAN
METHOD:PUBLISH
UID:58bdddfa-5377-424d-bf84-5171217922fb
X-WR-CALDESC:Please bring drinking water
X-WR-RELCALID:b768504a102e70295c053461473ce183
X-WR-TIMEZONE:America/Chicago
BEGIN:VTIMEZONE
TZID:America/Chicago
BEGIN:STANDARD
TZNAME:CST
DTSTART:20221106T020000
TZOFFSETFROM:-0500
TZOFFSETTO:-0600
RDATE:20231105T020000
RDATE:20241103T020000
END:STANDARD
BEGIN:DAYLIGHT
TZNAME:CDT
DTSTART:20230312T020000
TZOFFSETFROM:-0600
TZOFFSETTO:-0500
RDATE:20240310T020000
END:DAYLIGHT
END:VTIMEZONE
BEGIN:VEVENT
UID:1001eb61-32a5-4026-9cf2-dfcf244b4178
DTSTAMP:20260419T205527Z
DESCRIPTION:Please bring drinking water
DTSTART;TZID=America/Chicago:20230518T160000
DTEND;TZID=America/Chicago:20230518T170000
LOCATION:Firespring
SUMMARY:Walking Group
END:VEVENT
END:VCALENDAR
