BEGIN:VCALENDAR
VERSION:2.0
PRODID:-//phil.firespring.org//NONSGML kigkonsult.se iCalcreator 2.30.10//
CALSCALE:GREGORIAN
METHOD:PUBLISH
UID:20624ccc-7184-4401-929a-e78f222012c9
X-WR-CALDESC:Please bring drinking water
X-WR-RELCALID:13c28d27a5d6ae9d1caf974132186d66
X-WR-TIMEZONE:America/Chicago
BEGIN:VTIMEZONE
TZID:America/Chicago
BEGIN:STANDARD
TZNAME:CST
DTSTART:20221106T020000
TZOFFSETFROM:-0500
TZOFFSETTO:-0600
RDATE:20231105T020000
RDATE:20241103T020000
END:STANDARD
BEGIN:DAYLIGHT
TZNAME:CDT
DTSTART:20230312T020000
TZOFFSETFROM:-0600
TZOFFSETTO:-0500
RDATE:20240310T020000
END:DAYLIGHT
END:VTIMEZONE
BEGIN:VEVENT
UID:12008898-401f-47bb-9d7b-02d0afc3d952
DTSTAMP:20260419T190534Z
DESCRIPTION:Please bring drinking water
DTSTART;TZID=America/Chicago:20230615T160000
DTEND;TZID=America/Chicago:20230615T170000
LOCATION:Firespring
SUMMARY:Walking Group
END:VEVENT
END:VCALENDAR
