BEGIN:VCALENDAR
VERSION:2.0
PRODID:-//phil.firespring.org//NONSGML kigkonsult.se iCalcreator 2.30.10//
CALSCALE:GREGORIAN
METHOD:PUBLISH
UID:0400b821-9d96-4c28-8e23-418d3f84a83a
X-WR-CALDESC:Please bring drinking water
X-WR-RELCALID:eae780a580da34507ee9854fc39d944c
X-WR-TIMEZONE:America/Chicago
BEGIN:VTIMEZONE
TZID:America/Chicago
BEGIN:STANDARD
TZNAME:CST
DTSTART:20221106T020000
TZOFFSETFROM:-0500
TZOFFSETTO:-0600
RDATE:20231105T020000
RDATE:20241103T020000
END:STANDARD
BEGIN:DAYLIGHT
TZNAME:CDT
DTSTART:20230312T020000
TZOFFSETFROM:-0600
TZOFFSETTO:-0500
RDATE:20240310T020000
END:DAYLIGHT
END:VTIMEZONE
BEGIN:VEVENT
UID:44c72ec0-6c1c-49a9-9f22-1ec8b338e9aa
DTSTAMP:20260419T160021Z
DESCRIPTION:Please bring drinking water
DTSTART;TZID=America/Chicago:20230803T160000
DTEND;TZID=America/Chicago:20230803T170000
LOCATION:Firespring
SUMMARY:Walking Group
END:VEVENT
END:VCALENDAR
