BEGIN:VCALENDAR
VERSION:2.0
PRODID:-//phil.firespring.org//NONSGML kigkonsult.se iCalcreator 2.30.10//
CALSCALE:GREGORIAN
METHOD:PUBLISH
UID:a6e34866-96ee-4467-ba12-4c7a474759c3
X-WR-CALDESC:Please bring drinking water
X-WR-RELCALID:8ea46a30e3db4b4be12e1735fec3c5ad
X-WR-TIMEZONE:America/Chicago
BEGIN:VTIMEZONE
TZID:America/Chicago
BEGIN:STANDARD
TZNAME:CST
DTSTART:20221106T020000
TZOFFSETFROM:-0500
TZOFFSETTO:-0600
RDATE:20231105T020000
RDATE:20241103T020000
END:STANDARD
BEGIN:DAYLIGHT
TZNAME:CDT
DTSTART:20230312T020000
TZOFFSETFROM:-0600
TZOFFSETTO:-0500
RDATE:20240310T020000
END:DAYLIGHT
END:VTIMEZONE
BEGIN:VEVENT
UID:538ba283-78e6-47b1-95f9-22bf7185debf
DTSTAMP:20260419T154752Z
DESCRIPTION:Please bring drinking water
DTSTART;TZID=America/Chicago:20230824T160000
DTEND;TZID=America/Chicago:20230824T170000
LOCATION:Firespring
SUMMARY:Walking Group
END:VEVENT
END:VCALENDAR
