BEGIN:VCALENDAR
VERSION:2.0
PRODID:-//phil.firespring.org//NONSGML kigkonsult.se iCalcreator 2.30.10//
CALSCALE:GREGORIAN
METHOD:PUBLISH
UID:f61b2f70-e8d5-46b7-8269-02ac821d0968
X-WR-CALDESC:Please bring drinking water
X-WR-RELCALID:417b17d44e6c2f4d88587b590447b122
X-WR-TIMEZONE:America/Chicago
BEGIN:VTIMEZONE
TZID:America/Chicago
BEGIN:STANDARD
TZNAME:CST
DTSTART:20221106T020000
TZOFFSETFROM:-0500
TZOFFSETTO:-0600
RDATE:20231105T020000
RDATE:20241103T020000
END:STANDARD
BEGIN:DAYLIGHT
TZNAME:CDT
DTSTART:20230312T020000
TZOFFSETFROM:-0600
TZOFFSETTO:-0500
RDATE:20240310T020000
END:DAYLIGHT
END:VTIMEZONE
BEGIN:VEVENT
UID:4af60f6d-19f2-47ca-a5a3-54d849d16b0c
DTSTAMP:20260419T141146Z
DESCRIPTION:Please bring drinking water
DTSTART;TZID=America/Chicago:20230907T160000
DTEND;TZID=America/Chicago:20230907T170000
LOCATION:Firespring
SUMMARY:Walking Group
END:VEVENT
END:VCALENDAR
