BEGIN:VCALENDAR
VERSION:2.0
PRODID:-//phil.firespring.org//NONSGML kigkonsult.se iCalcreator 2.30.10//
CALSCALE:GREGORIAN
METHOD:PUBLISH
UID:07ccbaad-b6b9-4b96-ac15-e85094390831
X-WR-CALDESC:Get help and help with better joints
X-WR-RELCALID:380ce0d21116d8f33c44b3dbc571fae3
X-WR-TIMEZONE:America/Chicago
BEGIN:VTIMEZONE
TZID:America/Chicago
BEGIN:STANDARD
TZNAME:CST
DTSTART:20221106T020000
TZOFFSETFROM:-0500
TZOFFSETTO:-0600
RDATE:20231105T020000
RDATE:20241103T020000
END:STANDARD
BEGIN:DAYLIGHT
TZNAME:CDT
DTSTART:20230312T020000
TZOFFSETFROM:-0600
TZOFFSETTO:-0500
RDATE:20240310T020000
RDATE:20250309T020000
END:DAYLIGHT
END:VTIMEZONE
BEGIN:VEVENT
UID:8ba3bb44-c755-43bc-8053-a837a7b0bb3c
DTSTAMP:20260419T130215Z
DESCRIPTION:Get help and help with better joints
DTSTART;TZID=America/Chicago:20231003T103000
DTEND;TZID=America/Chicago:20231003T180000
LOCATION:
SUMMARY:Dr. Cunningham - Orthopedist
END:VEVENT
END:VCALENDAR
