BEGIN:VCALENDAR
VERSION:2.0
PRODID:-//phil.firespring.org//NONSGML kigkonsult.se iCalcreator 2.30.10//
CALSCALE:GREGORIAN
METHOD:PUBLISH
UID:3894fedd-f2a1-49ef-84f8-1295b699a78b
X-WR-CALDESC:Please bring drinking water
X-WR-RELCALID:4dc8725bd85298af6125be80ea25f734
X-WR-TIMEZONE:America/Chicago
BEGIN:VTIMEZONE
TZID:America/Chicago
BEGIN:STANDARD
TZNAME:CST
DTSTART:20231105T020000
TZOFFSETFROM:-0500
TZOFFSETTO:-0600
RDATE:20241103T020000
END:STANDARD
BEGIN:DAYLIGHT
TZNAME:CDT
DTSTART:20230312T020000
TZOFFSETFROM:-0600
TZOFFSETTO:-0500
RDATE:20240310T020000
RDATE:20250309T020000
END:DAYLIGHT
END:VTIMEZONE
BEGIN:VEVENT
UID:4688977b-3f09-4788-b0bc-5d041da9b03d
DTSTAMP:20260421T103051Z
DESCRIPTION:Please bring drinking water
DTSTART;TZID=America/Chicago:20231116T160000
DTEND;TZID=America/Chicago:20231116T170000
LOCATION:Firespring
SUMMARY:Walking Group
END:VEVENT
END:VCALENDAR
