BEGIN:VCALENDAR
VERSION:2.0
PRODID:-//phil.firespring.org//NONSGML kigkonsult.se iCalcreator 2.30.10//
CALSCALE:GREGORIAN
METHOD:PUBLISH
UID:0b2fe977-64a1-4fe2-bfcf-d020b87acf49
X-WR-CALDESC:
X-WR-RELCALID:ef2f0981ad9d61a2d1bab4153ce94623
X-WR-TIMEZONE:America/Chicago
BEGIN:VTIMEZONE
TZID:America/Chicago
BEGIN:STANDARD
TZNAME:CST
DTSTART:20231105T020000
TZOFFSETFROM:-0500
TZOFFSETTO:-0600
RDATE:20241103T020000
END:STANDARD
BEGIN:DAYLIGHT
TZNAME:CDT
DTSTART:20230312T020000
TZOFFSETFROM:-0600
TZOFFSETTO:-0500
RDATE:20240310T020000
RDATE:20250309T020000
END:DAYLIGHT
END:VTIMEZONE
BEGIN:VEVENT
UID:77af2005-6ecb-42b8-98c6-076cc8ad0a60
DTSTAMP:20260421T090327Z
DESCRIPTION:
DTSTART;TZID=America/Chicago:20231209T070000
DTEND;TZID=America/Chicago:20231209T100000
LOCATION:
SUMMARY:Fall 2023 QPR Training
END:VEVENT
END:VCALENDAR
