BEGIN:VCALENDAR
VERSION:2.0
PRODID:-//phil.firespring.org//NONSGML kigkonsult.se iCalcreator 2.30.10//
CALSCALE:GREGORIAN
METHOD:PUBLISH
UID:9fb40c69-03f7-4f0e-a62a-2597e4fecc96
X-WR-CALDESC:Get help and help with better joints
X-WR-RELCALID:cfcba9dd349e0fa5736b5cf15dc0136e
X-WR-TIMEZONE:America/Chicago
BEGIN:VTIMEZONE
TZID:America/Chicago
BEGIN:STANDARD
TZNAME:CST
DTSTART:20231105T020000
TZOFFSETFROM:-0500
TZOFFSETTO:-0600
RDATE:20241103T020000
END:STANDARD
BEGIN:DAYLIGHT
TZNAME:CDT
DTSTART:20230312T020000
TZOFFSETFROM:-0600
TZOFFSETTO:-0500
RDATE:20240310T020000
RDATE:20250309T020000
END:DAYLIGHT
END:VTIMEZONE
BEGIN:VEVENT
UID:7e074622-211d-4fce-8456-0ae6e9f14a22
DTSTAMP:20260421T090948Z
DESCRIPTION:Get help and help with better joints
DTSTART;TZID=America/Chicago:20231226T103000
DTEND;TZID=America/Chicago:20231226T180000
LOCATION:
SUMMARY:Dr. Cunningham - Orthopedist
END:VEVENT
END:VCALENDAR
