BEGIN:VCALENDAR
VERSION:2.0
PRODID:-//phil.firespring.org//NONSGML kigkonsult.se iCalcreator 2.30.10//
CALSCALE:GREGORIAN
METHOD:PUBLISH
UID:9dcdf910-0600-48fd-9e36-0374da31c132
X-WR-CALDESC:Please bring drinking water
X-WR-RELCALID:0ee0277e1a33110131c48bbd2c4f45a0
X-WR-TIMEZONE:America/Chicago
BEGIN:VTIMEZONE
TZID:America/Chicago
BEGIN:STANDARD
TZNAME:CST
DTSTART:20231105T020000
TZOFFSETFROM:-0500
TZOFFSETTO:-0600
RDATE:20241103T020000
END:STANDARD
BEGIN:DAYLIGHT
TZNAME:CDT
DTSTART:20230312T020000
TZOFFSETFROM:-0600
TZOFFSETTO:-0500
RDATE:20240310T020000
RDATE:20250309T020000
END:DAYLIGHT
END:VTIMEZONE
BEGIN:VEVENT
UID:d2de1d4a-0d3b-46f8-a195-8d554919593a
DTSTAMP:20260421T084722Z
DESCRIPTION:Please bring drinking water
DTSTART;TZID=America/Chicago:20231228T160000
DTEND;TZID=America/Chicago:20231228T170000
LOCATION:Firespring
SUMMARY:Walking Group
END:VEVENT
END:VCALENDAR
