BEGIN:VCALENDAR
VERSION:2.0
PRODID:-//phil.firespring.org//NONSGML kigkonsult.se iCalcreator 2.30.10//
CALSCALE:GREGORIAN
METHOD:PUBLISH
UID:cc68e924-5745-496e-a25c-d0bf56c94d6c
X-WR-CALDESC:Please bring drinking water
X-WR-RELCALID:66b9de12aff129049d1f9715f69d5338
X-WR-TIMEZONE:America/Chicago
BEGIN:VTIMEZONE
TZID:America/Chicago
BEGIN:STANDARD
TZNAME:CST
DTSTART:20271107T020000
TZOFFSETFROM:-0500
TZOFFSETTO:-0600
RDATE:20281105T020000
RDATE:20291104T020000
END:STANDARD
BEGIN:DAYLIGHT
TZNAME:CDT
DTSTART:20280312T020000
TZOFFSETFROM:-0600
TZOFFSETTO:-0500
RDATE:20290311T020000
RDATE:20300310T020000
END:DAYLIGHT
END:VTIMEZONE
BEGIN:VEVENT
UID:eea1773e-1041-481d-9e8c-f91b481702ef
DTSTAMP:20260421T100429Z
DESCRIPTION:Please bring drinking water
DTSTART;TZID=America/Chicago:20280914T160000
DTEND;TZID=America/Chicago:20280914T170000
LOCATION:Firespring
SUMMARY:Walking Group
END:VEVENT
END:VCALENDAR
