BEGIN:VCALENDAR
VERSION:2.0
PRODID:-//phil.firespring.org//NONSGML kigkonsult.se iCalcreator 2.30.10//
CALSCALE:GREGORIAN
METHOD:PUBLISH
UID:1ba88a06-5e27-4e3f-b93d-0a5ba4f60403
X-WR-CALDESC:Please bring drinking water
X-WR-RELCALID:8cd02af7b589ede7b505fece60264c21
X-WR-TIMEZONE:America/Chicago
BEGIN:VTIMEZONE
TZID:America/Chicago
BEGIN:STANDARD
TZNAME:CST
DTSTART:20271107T020000
TZOFFSETFROM:-0500
TZOFFSETTO:-0600
RDATE:20281105T020000
RDATE:20291104T020000
END:STANDARD
BEGIN:DAYLIGHT
TZNAME:CDT
DTSTART:20280312T020000
TZOFFSETFROM:-0600
TZOFFSETTO:-0500
RDATE:20290311T020000
RDATE:20300310T020000
END:DAYLIGHT
END:VTIMEZONE
BEGIN:VEVENT
UID:11c8b20e-b9d7-4e03-a956-1927a57aa65c
DTSTAMP:20260421T103222Z
DESCRIPTION:Please bring drinking water
DTSTART;TZID=America/Chicago:20280928T160000
DTEND;TZID=America/Chicago:20280928T170000
LOCATION:Firespring
SUMMARY:Walking Group
END:VEVENT
END:VCALENDAR
