BEGIN:VCALENDAR
VERSION:2.0
PRODID:-//phil.firespring.org//NONSGML kigkonsult.se iCalcreator 2.30.10//
CALSCALE:GREGORIAN
METHOD:PUBLISH
UID:23014e63-31e3-476a-82ca-e1795b0b480c
X-WR-CALDESC:Please bring drinking water
X-WR-RELCALID:c78031de47ae63e9ed56f3277c55510f
X-WR-TIMEZONE:America/Chicago
BEGIN:VTIMEZONE
TZID:America/Chicago
BEGIN:STANDARD
TZNAME:CST
DTSTART:20281105T020000
TZOFFSETFROM:-0500
TZOFFSETTO:-0600
RDATE:20291104T020000
END:STANDARD
BEGIN:DAYLIGHT
TZNAME:CDT
DTSTART:20280312T020000
TZOFFSETFROM:-0600
TZOFFSETTO:-0500
RDATE:20290311T020000
RDATE:20300310T020000
END:DAYLIGHT
END:VTIMEZONE
BEGIN:VEVENT
UID:7a0e93fa-6659-4bdd-b49a-7b239c6364b7
DTSTAMP:20260421T122227Z
DESCRIPTION:Please bring drinking water
DTSTART;TZID=America/Chicago:20281123T160000
DTEND;TZID=America/Chicago:20281123T170000
LOCATION:Firespring
SUMMARY:Walking Group
END:VEVENT
END:VCALENDAR
