BEGIN:VCALENDAR
VERSION:2.0
PRODID:-//phil.firespring.org//NONSGML kigkonsult.se iCalcreator 2.30.10//
CALSCALE:GREGORIAN
METHOD:PUBLISH
UID:a183f5fe-2b0f-4100-a331-784dde45947e
X-WR-CALDESC:Please bring drinking water
X-WR-RELCALID:47b8b39bc700d681959d8efe08001b0d
X-WR-TIMEZONE:America/Chicago
BEGIN:VTIMEZONE
TZID:America/Chicago
BEGIN:STANDARD
TZNAME:CST
DTSTART:20281105T020000
TZOFFSETFROM:-0500
TZOFFSETTO:-0600
RDATE:20291104T020000
END:STANDARD
BEGIN:DAYLIGHT
TZNAME:CDT
DTSTART:20280312T020000
TZOFFSETFROM:-0600
TZOFFSETTO:-0500
RDATE:20290311T020000
RDATE:20300310T020000
END:DAYLIGHT
END:VTIMEZONE
BEGIN:VEVENT
UID:544dc1db-f99f-4287-b7ea-c3cbfe937e5f
DTSTAMP:20260421T134654Z
DESCRIPTION:Please bring drinking water
DTSTART;TZID=America/Chicago:20281214T160000
DTEND;TZID=America/Chicago:20281214T170000
LOCATION:Firespring
SUMMARY:Walking Group
END:VEVENT
END:VCALENDAR
