BEGIN:VCALENDAR
VERSION:2.0
PRODID:-//phil.firespring.org//NONSGML kigkonsult.se iCalcreator 2.30.10//
CALSCALE:GREGORIAN
METHOD:PUBLISH
UID:12b90d4e-45cf-481d-8430-76c4c6439c00
X-WR-CALDESC:Please bring drinking water
X-WR-RELCALID:0255170bf79b654b4c7d862b4d5f745c
X-WR-TIMEZONE:America/Chicago
BEGIN:VTIMEZONE
TZID:America/Chicago
BEGIN:STANDARD
TZNAME:CST
DTSTART:20281105T020000
TZOFFSETFROM:-0500
TZOFFSETTO:-0600
RDATE:20291104T020000
END:STANDARD
BEGIN:DAYLIGHT
TZNAME:CDT
DTSTART:20280312T020000
TZOFFSETFROM:-0600
TZOFFSETTO:-0500
RDATE:20290311T020000
RDATE:20300310T020000
END:DAYLIGHT
END:VTIMEZONE
BEGIN:VEVENT
UID:41741dd2-b0ef-4820-8e8d-0c6392e51f6e
DTSTAMP:20260421T134637Z
DESCRIPTION:Please bring drinking water
DTSTART;TZID=America/Chicago:20281221T160000
DTEND;TZID=America/Chicago:20281221T170000
LOCATION:Firespring
SUMMARY:Walking Group
END:VEVENT
END:VCALENDAR
