BEGIN:VCALENDAR
VERSION:2.0
PRODID:-//phil.firespring.org//NONSGML kigkonsult.se iCalcreator 2.30.10//
CALSCALE:GREGORIAN
METHOD:PUBLISH
UID:2836ca44-2014-4ef4-ab3e-545d37ac962a
X-WR-CALDESC:Please bring drinking water
X-WR-RELCALID:e0c3f85dec6ad701a17048b9701bf327
X-WR-TIMEZONE:America/Chicago
BEGIN:VTIMEZONE
TZID:America/Chicago
BEGIN:STANDARD
TZNAME:CST
DTSTART:20281105T020000
TZOFFSETFROM:-0500
TZOFFSETTO:-0600
RDATE:20291104T020000
END:STANDARD
BEGIN:DAYLIGHT
TZNAME:CDT
DTSTART:20280312T020000
TZOFFSETFROM:-0600
TZOFFSETTO:-0500
RDATE:20290311T020000
RDATE:20300310T020000
END:DAYLIGHT
END:VTIMEZONE
BEGIN:VEVENT
UID:09b9d232-b9bd-46d0-9588-858eecf9d18f
DTSTAMP:20260421T153012Z
DESCRIPTION:Please bring drinking water
DTSTART;TZID=America/Chicago:20290118T160000
DTEND;TZID=America/Chicago:20290118T170000
LOCATION:Firespring
SUMMARY:Walking Group
END:VEVENT
END:VCALENDAR
