BEGIN:VCALENDAR
VERSION:2.0
PRODID:-//phil.firespring.org//NONSGML kigkonsult.se iCalcreator 2.30.10//
CALSCALE:GREGORIAN
METHOD:PUBLISH
UID:a71b2ec5-8ca9-42f4-a6e3-475b796cbd5a
X-WR-CALDESC:
X-WR-RELCALID:94b42a04e87ad9ed4abb6611f9814e0c
X-WR-TIMEZONE:America/Chicago
BEGIN:VTIMEZONE
TZID:America/Chicago
BEGIN:STANDARD
TZNAME:CST
DTSTART:20281105T020000
TZOFFSETFROM:-0500
TZOFFSETTO:-0600
RDATE:20291104T020000
END:STANDARD
BEGIN:DAYLIGHT
TZNAME:CDT
DTSTART:20290311T020000
TZOFFSETFROM:-0600
TZOFFSETTO:-0500
RDATE:20300310T020000
END:DAYLIGHT
END:VTIMEZONE
BEGIN:VEVENT
UID:c0907a7b-d7a4-4b08-91a4-fab9945e4ccc
DTSTAMP:20260421T181348Z
DESCRIPTION:
DTSTART;TZID=America/Chicago:20290315T133000
DTEND;TZID=America/Chicago:20290315T143000
LOCATION:
SUMMARY:Monthly Lunch
END:VEVENT
END:VCALENDAR
