BEGIN:VCALENDAR
VERSION:2.0
PRODID:-//phil.firespring.org//NONSGML kigkonsult.se iCalcreator 2.30.10//
CALSCALE:GREGORIAN
METHOD:PUBLISH
UID:1e7022e9-ff1e-4269-8719-d511a477081a
X-WR-CALDESC:Please bring drinking water
X-WR-RELCALID:c6e2043cdf153ed67a143e1d4ace5fe7
X-WR-TIMEZONE:America/Chicago
BEGIN:VTIMEZONE
TZID:America/Chicago
BEGIN:STANDARD
TZNAME:CST
DTSTART:20281105T020000
TZOFFSETFROM:-0500
TZOFFSETTO:-0600
RDATE:20291104T020000
END:STANDARD
BEGIN:DAYLIGHT
TZNAME:CDT
DTSTART:20290311T020000
TZOFFSETFROM:-0600
TZOFFSETTO:-0500
RDATE:20300310T020000
END:DAYLIGHT
END:VTIMEZONE
BEGIN:VEVENT
UID:2620d750-7099-4771-b198-1cd8a78e25fe
DTSTAMP:20260421T180811Z
DESCRIPTION:Please bring drinking water
DTSTART;TZID=America/Chicago:20290315T160000
DTEND;TZID=America/Chicago:20290315T170000
LOCATION:Firespring
SUMMARY:Walking Group
END:VEVENT
END:VCALENDAR
