BEGIN:VCALENDAR
VERSION:2.0
PRODID:-//phil.firespring.org//NONSGML kigkonsult.se iCalcreator 2.30.10//
CALSCALE:GREGORIAN
METHOD:PUBLISH
UID:069a3ad3-a4e9-43f1-ac92-65f28291541f
X-WR-CALDESC:Please bring drinking water
X-WR-RELCALID:fc377cda16663aa24adaddbc91839722
X-WR-TIMEZONE:America/Chicago
BEGIN:VTIMEZONE
TZID:America/Chicago
BEGIN:STANDARD
TZNAME:CST
DTSTART:20281105T020000
TZOFFSETFROM:-0500
TZOFFSETTO:-0600
RDATE:20291104T020000
END:STANDARD
BEGIN:DAYLIGHT
TZNAME:CDT
DTSTART:20290311T020000
TZOFFSETFROM:-0600
TZOFFSETTO:-0500
RDATE:20300310T020000
END:DAYLIGHT
END:VTIMEZONE
BEGIN:VEVENT
UID:5d0ca66d-11a6-4a6b-8456-0b8eeaa16014
DTSTAMP:20260421T193019Z
DESCRIPTION:Please bring drinking water
DTSTART;TZID=America/Chicago:20290419T160000
DTEND;TZID=America/Chicago:20290419T170000
LOCATION:Firespring
SUMMARY:Walking Group
END:VEVENT
END:VCALENDAR
