BEGIN:VCALENDAR
VERSION:2.0
PRODID:-//phil.firespring.org//NONSGML kigkonsult.se iCalcreator 2.30.10//
CALSCALE:GREGORIAN
METHOD:PUBLISH
UID:8da1f1c2-658c-4dfc-8e56-a99a1be6b9a7
X-WR-CALDESC:Please bring drinking water
X-WR-RELCALID:2a7866107a93a91682509e8e689ffb34
X-WR-TIMEZONE:America/Chicago
BEGIN:VTIMEZONE
TZID:America/Chicago
BEGIN:STANDARD
TZNAME:CST
DTSTART:20281105T020000
TZOFFSETFROM:-0500
TZOFFSETTO:-0600
RDATE:20291104T020000
RDATE:20301103T020000
END:STANDARD
BEGIN:DAYLIGHT
TZNAME:CDT
DTSTART:20290311T020000
TZOFFSETFROM:-0600
TZOFFSETTO:-0500
RDATE:20300310T020000
END:DAYLIGHT
END:VTIMEZONE
BEGIN:VEVENT
UID:df856896-1729-4a3b-99c3-44ab0a5d7688
DTSTAMP:20260421T224816Z
DESCRIPTION:Please bring drinking water
DTSTART;TZID=America/Chicago:20290621T160000
DTEND;TZID=America/Chicago:20290621T170000
LOCATION:Firespring
SUMMARY:Walking Group
END:VEVENT
END:VCALENDAR
