BEGIN:VCALENDAR
VERSION:2.0
PRODID:-//phil.firespring.org//NONSGML kigkonsult.se iCalcreator 2.30.10//
CALSCALE:GREGORIAN
METHOD:PUBLISH
UID:d5c23ce8-b0a6-45a9-b07e-7b489f3634ac
X-WR-CALDESC:Please bring drinking water
X-WR-RELCALID:6d84883d8e7f380ae0449bfe601891a8
X-WR-TIMEZONE:America/Chicago
BEGIN:VTIMEZONE
TZID:America/Chicago
BEGIN:STANDARD
TZNAME:CST
DTSTART:20281105T020000
TZOFFSETFROM:-0500
TZOFFSETTO:-0600
RDATE:20291104T020000
RDATE:20301103T020000
END:STANDARD
BEGIN:DAYLIGHT
TZNAME:CDT
DTSTART:20290311T020000
TZOFFSETFROM:-0600
TZOFFSETTO:-0500
RDATE:20300310T020000
END:DAYLIGHT
END:VTIMEZONE
BEGIN:VEVENT
UID:d8582be8-0d8f-4ea5-be37-c90ad6060f34
DTSTAMP:20260422T020317Z
DESCRIPTION:Please bring drinking water
DTSTART;TZID=America/Chicago:20290823T160000
DTEND;TZID=America/Chicago:20290823T170000
LOCATION:Firespring
SUMMARY:Walking Group
END:VEVENT
END:VCALENDAR
