BEGIN:VCALENDAR
VERSION:2.0
PRODID:-//phil.firespring.org//NONSGML kigkonsult.se iCalcreator 2.30.10//
CALSCALE:GREGORIAN
METHOD:PUBLISH
UID:059c5e2f-b843-4dbb-83c7-d15da7f4bb54
X-WR-CALDESC:Please bring drinking water
X-WR-RELCALID:e5f86c7fc6b17658c2bebde692165fa3
X-WR-TIMEZONE:America/Chicago
BEGIN:VTIMEZONE
TZID:America/Chicago
BEGIN:STANDARD
TZNAME:CST
DTSTART:20281105T020000
TZOFFSETFROM:-0500
TZOFFSETTO:-0600
RDATE:20291104T020000
RDATE:20301103T020000
END:STANDARD
BEGIN:DAYLIGHT
TZNAME:CDT
DTSTART:20290311T020000
TZOFFSETFROM:-0600
TZOFFSETTO:-0500
RDATE:20300310T020000
END:DAYLIGHT
END:VTIMEZONE
BEGIN:VEVENT
UID:40804f0c-5621-4ef0-9420-8198dfac27e5
DTSTAMP:20260422T020359Z
DESCRIPTION:Please bring drinking water
DTSTART;TZID=America/Chicago:20290830T160000
DTEND;TZID=America/Chicago:20290830T170000
LOCATION:Firespring
SUMMARY:Walking Group
END:VEVENT
END:VCALENDAR
