BEGIN:VCALENDAR
VERSION:2.0
PRODID:-//phil.firespring.org//NONSGML kigkonsult.se iCalcreator 2.30.10//
CALSCALE:GREGORIAN
METHOD:PUBLISH
UID:7c3c30b5-03d8-4cc3-85f8-50dbd8258a4e
X-WR-CALDESC:Please bring drinking water
X-WR-RELCALID:91cfa6cbf404f17cf2e9c9ad67f5feda
X-WR-TIMEZONE:America/Chicago
BEGIN:VTIMEZONE
TZID:America/Chicago
BEGIN:STANDARD
TZNAME:CST
DTSTART:20281105T020000
TZOFFSETFROM:-0500
TZOFFSETTO:-0600
RDATE:20291104T020000
RDATE:20301103T020000
END:STANDARD
BEGIN:DAYLIGHT
TZNAME:CDT
DTSTART:20290311T020000
TZOFFSETFROM:-0600
TZOFFSETTO:-0500
RDATE:20300310T020000
RDATE:20310309T020000
END:DAYLIGHT
END:VTIMEZONE
BEGIN:VEVENT
UID:54a80f4f-70d5-4817-b678-e1691e21dd69
DTSTAMP:20260422T040422Z
DESCRIPTION:Please bring drinking water
DTSTART;TZID=America/Chicago:20290913T160000
DTEND;TZID=America/Chicago:20290913T170000
LOCATION:Firespring
SUMMARY:Walking Group
END:VEVENT
END:VCALENDAR
